BEGIN:VCALENDAR
VERSION:2.0
PRODID:gruene-brandenburg.de
METHOD:PUBLISH
BEGIN:VTIMEZONE
TZID:Europe/Berlin
X-LIC-LOCATION:Europe/Berlin
BEGIN:DAYLIGHT
TZOFFSETFROM:+0100
TZOFFSETTO:+0200
TZNAME:CEST
DTSTART:19700329T020000
RRULE:FREQ=YEARLY;INTERVAL=1;BYDAY=-1SU;BYMONTH=3
END:DAYLIGHT
BEGIN:STANDARD
TZOFFSETFROM:+0200
TZOFFSETTO:+0100
TZNAME:CET
DTSTART:19701025T030000
RRULE:FREQ=YEARLY;INTERVAL=1;BYDAY=-1SU;BYMONTH=10
END:STANDARD
END:VTIMEZONE
BEGIN:VEVENT
UID:e1cc58498ce1e80efbd988245429af98@gruene-brandenburg.de
URL;VALUE=URI:https://gruene-brandenburg.de/termine/gewerkschaftsgruen-br
 andenburg/
LOCATION:Videoraum A
SUMMARY:Gewerkschaftsgrün Brandenburg
DESCRIPTION;ALTREP="data:text/html,%3Cp%3EBei%20Interesse%20bitte%20bei%2
 0den%20Sprecher%2Ainnen%20melden%20unter%3A%20maria.schaefer%40gruene-bra
 ndenburg.de%3Cbr%20%2F%3E%0A%3Cbr%20%2F%3E%0A%3Cbr%20%2F%3E%0A%3C%2Fp%3E"
 :Bei Interesse bitte bei den Sprecher*innen melden unter: maria.schaefer@
 gruene-brandenburg.de
CLASS:PUBLIC
DTSTART;TZID=Europe/Berlin:20260507T190000
DTEND;TZID=Europe/Berlin:20260507T203000
DTSTAMP:20260422T001130
END:VEVENT
END:VCALENDAR