BEGIN:VCALENDAR
VERSION:2.0
PRODID:gruene-brandenburg.de
METHOD:PUBLISH
BEGIN:VTIMEZONE
TZID:Europe/Berlin
X-LIC-LOCATION:Europe/Berlin
BEGIN:DAYLIGHT
TZOFFSETFROM:+0100
TZOFFSETTO:+0200
TZNAME:CEST
DTSTART:19700329T020000
RRULE:FREQ=YEARLY;INTERVAL=1;BYDAY=-1SU;BYMONTH=3
END:DAYLIGHT
BEGIN:STANDARD
TZOFFSETFROM:+0200
TZOFFSETTO:+0100
TZNAME:CET
DTSTART:19701025T030000
RRULE:FREQ=YEARLY;INTERVAL=1;BYDAY=-1SU;BYMONTH=10
END:STANDARD
END:VTIMEZONE
BEGIN:VEVENT
UID:c3f5aff62897557522cf7b6c9563ea8a@gruene-brandenburg.de
URL;VALUE=URI:https://gruene-brandenburg.de/termine/gruenes-netz-schulung
 -fuer-mitglieder/
LOCATION:Zoom
SUMMARY:Grünes Netz Schulung für Mitglieder
DESCRIPTION;ALTREP="data:text/html,%3Cp%3ELiebe%3Cbr%20%2F%3E%0A%20%20%20
 %20%20%20%20%20Mitglieder%2C%20wir%20laden%20euch%20herzlich%20zur%20%E2%
 80%9EGr%C3%BCnes%20Netz%20Schulung%E2%80%9C%20ein.%20Die%3Cbr%20%2F%3E%0A
 %20%20%20%20Parteiarbeit%20hat%20sich%20in%20den%20letzten%20Jahren%20mas
 siv%20ver%C3%A4ndert%3A%3Cbr%20%2F%3E%0A%20%20%20%20Online%E2%80%91Sitzun
 gen%2C%20digitale%20Abstimmungstools%2C%20kollaborative%20Werkzeuge%3Cbr%
 20%2F%3E%0A%20%20%20%20f%C3%BCr%20die%20gemeinsame%20Arbeit%20an%20Antr%C
 3%A4gen%20und%20vieles%20mehr.%20In%20dieser%3Cbr%20%2F%3E%0A%20%20%20%20
 Schulung%20vermittelt%20euch%20Paul%20Heinrich%20%28Kreisgesch%C3%A4ftsf%
 C3%BChrung%20KV%3Cbr%20%2F%3E%0A%20%20%20%20Havelland%29%20die%20Grundlag
 en%20der%20Handhabung%20gr%C3%BCner%20digitaler%20Tools%20und%3Cbr%20%2F%
 3E%0A%20%20%20%20gibt%20praktische%20Tipps%20und%20Tricks.%3Cbr%20%2F%3E%
 0A%3Cbr%20%2F%3E%0A%20%20%20%20Wir%20freuen%20uns%20darauf%2C%20gemeinsam
 %20zu%20besprechen%2C%20wie%20man%20ins%20Gr%C3%BCne%3Cbr%20%2F%3E%0A%20%
 20%20%20Netz%20kommt%2C%20welche%20Anwendungen%20es%20gibt%2C%20wie%20man
 %20sie%20im%20Ehrenamt%3Cbr%20%2F%3E%0A%20%20%20%20einfach%20nutzt%2C%20u
 nd%20nat%C3%BCrlich%20eure%20Fragen%20zu%20beantworten.%20%3Cbr%20%2F%3E%
 0A%3Cbr%20%2F%3E%0A%20%20%20%20%3Cbr%20%2F%3E%0A%3Cbr%20%2F%3E%0A%20%20%2
 0%20F%C3%BCr%3Cbr%20%2F%3E%0A%20%20%20%20%20%20%20%20wen%3A%20alle%3Cbr%2
 0%2F%3E%0A%20%20%20%20%20%20%20%20interessierten%20Mitglieder%3Cbr%20%2F%
 3E%0A%3Cbr%20%2F%3E%0A%20%20%20%20%20%20Ort%3A%20online%3Cbr%20%2F%3E%0A%
 3Cbr%20%2F%3E%0A%20%20%20%20%20%20Termin%3A%3Cbr%20%2F%3E%0A%20%20%20%20%
 20%20%20%2028.04.2026%20um%2018%3A30%20Uhr%3Cbr%20%2F%3E%0A%3Cbr%20%2F%3E
 %0A%20%20%20%20Referent%2Ain%3A%20Paul%3Cbr%20%2F%3E%0A%20%20%20%20%20%20
 %20%20Heinrich%20%28Kreisgesch%C3%A4ftsf%C3%BChrung%20KV%20Havelland%29%3
 Cbr%20%2F%3E%0AAnmeldung%3A%20wendet%20euch%20per%20E-Mail%20an%20weiterb
 ildung%40gruene-brandenburg.de%3C%2Fp%3E":Liebe\n\n        Mitglieder\, w
 ir laden euch herzlich zur „Grünes Netz Schulung“ ein. Die\n\n    Pa
 rteiarbeit hat sich in den letzten Jahren massiv verändert:\n\n    Onlin
 e‑Sitzungen\, digitale Abstimmungstools\, kollaborative Werkzeuge\n\n  
   für die gemeinsame Arbeit an Anträgen und vieles mehr. In dieser\n\n 
    Schulung vermittelt euch Paul Heinrich (Kreisgeschäftsführung KV\n\n
     Havelland) die Grundlagen der Handhabung grüner digitaler Tools und\
 n\n    gibt praktische Tipps und Tricks.\n\n    Wir freuen uns darauf\, g
 emeinsam zu besprechen\, wie man ins Grüne\n\n    Netz kommt\, welche An
 wendungen es gibt\, wie man sie im Ehrenamt\n\n    einfach nutzt\, und na
 türlich eure Fragen zu beantworten.\n\n    Für\n\n        wen: alle\n\n
         interessierten Mitglieder\n\n      Ort: online\n\n      Termin:\n
 \n        28.04.2026 um 18:30 Uhr\n\n    Referent*in: Paul\n\n        Hei
 nrich (Kreisgeschäftsführung KV Havelland)\n\nAnmeldung: wendet euch pe
 r E-Mail an weiterbildung@gruene-brandenburg.de
CLASS:PUBLIC
DTSTART;TZID=Europe/Berlin:20260428T183000
DTEND;TZID=Europe/Berlin:20260428T200000
DTSTAMP:20260422T000012
END:VEVENT
END:VCALENDAR