BEGIN:VCALENDAR
VERSION:2.0
PRODID:gruene-brandenburg.de
METHOD:PUBLISH
BEGIN:VTIMEZONE
TZID:Europe/Berlin
X-LIC-LOCATION:Europe/Berlin
BEGIN:DAYLIGHT
TZOFFSETFROM:+0100
TZOFFSETTO:+0200
TZNAME:CEST
DTSTART:19700329T020000
RRULE:FREQ=YEARLY;INTERVAL=1;BYDAY=-1SU;BYMONTH=3
END:DAYLIGHT
BEGIN:STANDARD
TZOFFSETFROM:+0200
TZOFFSETTO:+0100
TZNAME:CET
DTSTART:19701025T030000
RRULE:FREQ=YEARLY;INTERVAL=1;BYDAY=-1SU;BYMONTH=10
END:STANDARD
END:VTIMEZONE
BEGIN:VEVENT
UID:49358edadbfbb7e296aa11e5dd1c364c@gruene-brandenburg.de
URL;VALUE=URI:https://gruene-brandenburg.de/termine/lag-demokratie-recht-
 und-antifaschismus/
LOCATION:Online
SUMMARY:LAG Demokratie, Recht und Antifaschismus
DESCRIPTION;ALTREP="data:text/html,%3Cp%3EF%C3%BCr%20die%20Zugangsdaten%2
 0wendet%20euch%20bitte%20an%20das%20Sprecher%2Ainnen%20Team%3A%20lag.demo
 kratierecht%40gruene-brandenburg.de%3C%2Fp%3E":Für die Zugangsdaten wend
 et euch bitte an das Sprecher*innen Team: lag.demokratierecht@gruene-bran
 denburg.de
CLASS:PUBLIC
DTSTART;TZID=Europe/Berlin:20260518T193000
DTEND;TZID=Europe/Berlin:20260518T210000
DTSTAMP:20260422T014027
END:VEVENT
END:VCALENDAR