BEGIN:VCALENDAR
VERSION:2.0
PRODID:gruene-brandenburg.de
METHOD:PUBLISH
BEGIN:VTIMEZONE
TZID:Europe/Berlin
X-LIC-LOCATION:Europe/Berlin
BEGIN:DAYLIGHT
TZOFFSETFROM:+0100
TZOFFSETTO:+0200
TZNAME:CEST
DTSTART:19700329T020000
RRULE:FREQ=YEARLY;INTERVAL=1;BYDAY=-1SU;BYMONTH=3
END:DAYLIGHT
BEGIN:STANDARD
TZOFFSETFROM:+0200
TZOFFSETTO:+0100
TZNAME:CET
DTSTART:19701025T030000
RRULE:FREQ=YEARLY;INTERVAL=1;BYDAY=-1SU;BYMONTH=10
END:STANDARD
END:VTIMEZONE
BEGIN:VEVENT
UID:55d83f548eadafcf8fdd732de369998c@gruene-brandenburg.de
URL;VALUE=URI:https://gruene-brandenburg.de/termine/lag-digitales-und-med
 ien-3/
LOCATION:online 
SUMMARY:LAG Digitales und Medien
DESCRIPTION;ALTREP="data:text/html,%3Cp%3EBei%20Interesse%20bitte%20melde
 n%20bei%3A%20lag.digitalesmedien%40gruene-brandenburg.de%3C%2Fp%3E":Bei I
 nteresse bitte melden bei: lag.digitalesmedien@gruene-brandenburg.de
CLASS:PUBLIC
DTSTART;TZID=Europe/Berlin:20260512T190000
DTEND;TZID=Europe/Berlin:20260512T203000
DTSTAMP:20260422T000951
END:VEVENT
END:VCALENDAR