BEGIN:VCALENDAR
VERSION:2.0
PRODID:gruene-brandenburg.de
METHOD:PUBLISH
BEGIN:VTIMEZONE
TZID:Europe/Berlin
X-LIC-LOCATION:Europe/Berlin
BEGIN:DAYLIGHT
TZOFFSETFROM:+0100
TZOFFSETTO:+0200
TZNAME:CEST
DTSTART:19700329T020000
RRULE:FREQ=YEARLY;INTERVAL=1;BYDAY=-1SU;BYMONTH=3
END:DAYLIGHT
BEGIN:STANDARD
TZOFFSETFROM:+0200
TZOFFSETTO:+0100
TZNAME:CET
DTSTART:19701025T030000
RRULE:FREQ=YEARLY;INTERVAL=1;BYDAY=-1SU;BYMONTH=10
END:STANDARD
END:VTIMEZONE
BEGIN:VEVENT
UID:f354a1ea342b51c6eaf298d925f4b6e7@gruene-brandenburg.de
URL;VALUE=URI:https://gruene-brandenburg.de/termine/lag-europa/
LOCATION:Zoom Raum A
SUMMARY:LAG Europa
DESCRIPTION;ALTREP="data:text/html,%3Cp%3EDie%20Zugangsdaten%20bitte%20be
 i%20den%20Sprecher%2Ainnen%20anfragen%20unter%3A%20lag.europa%40gruene-br
 andenburg.de%3C%2Fp%3E":Die Zugangsdaten bitte bei den Sprecher*innen anf
 ragen unter: lag.europa@gruene-brandenburg.de
CLASS:PUBLIC
DTSTART;TZID=Europe/Berlin:20260423T190000
DTEND;TZID=Europe/Berlin:20260423T200000
DTSTAMP:20260422T000833
END:VEVENT
END:VCALENDAR