BEGIN:VCALENDAR
VERSION:2.0
PRODID:gruene-brandenburg.de
METHOD:PUBLISH
BEGIN:VTIMEZONE
TZID:Europe/Berlin
X-LIC-LOCATION:Europe/Berlin
BEGIN:DAYLIGHT
TZOFFSETFROM:+0100
TZOFFSETTO:+0200
TZNAME:CEST
DTSTART:19700329T020000
RRULE:FREQ=YEARLY;INTERVAL=1;BYDAY=-1SU;BYMONTH=3
END:DAYLIGHT
BEGIN:STANDARD
TZOFFSETFROM:+0200
TZOFFSETTO:+0100
TZNAME:CET
DTSTART:19701025T030000
RRULE:FREQ=YEARLY;INTERVAL=1;BYDAY=-1SU;BYMONTH=10
END:STANDARD
END:VTIMEZONE
BEGIN:VEVENT
UID:6a51ecbc454ae627edf826b556a40923@gruene-brandenburg.de
URL;VALUE=URI:https://gruene-brandenburg.de/termine/lag-klimaneutrales-ba
 uen/
LOCATION:Online Raum B
SUMMARY:LAG Klimaneutrales Bauen
DESCRIPTION;ALTREP="data:text/html,%3Cp%3EF%C3%BCr%20Zugangsdaten%20wende
 t%20euch%20bitte%20an%20die%20Sprecher%2Ainnen%20LAG%20Klimaneutrales%20B
 auen%20Bbg%3Cbr%20%2F%3E%0A%3Cbr%20%2F%3E%0A%3C%2Fp%3E":Für Zugangsdaten
  wendet euch bitte an die Sprecher*innen LAG Klimaneutrales Bauen Bbg
CLASS:PUBLIC
DTSTART;TZID=Europe/Berlin:20260421T190000
DTEND;TZID=Europe/Berlin:20260421T210000
DTSTAMP:20260421T140345
END:VEVENT
END:VCALENDAR