BEGIN:VCALENDAR
VERSION:2.0
PRODID:gruene-brandenburg.de
METHOD:PUBLISH
BEGIN:VTIMEZONE
TZID:Europe/Berlin
X-LIC-LOCATION:Europe/Berlin
BEGIN:DAYLIGHT
TZOFFSETFROM:+0100
TZOFFSETTO:+0200
TZNAME:CEST
DTSTART:19700329T020000
RRULE:FREQ=YEARLY;INTERVAL=1;BYDAY=-1SU;BYMONTH=3
END:DAYLIGHT
BEGIN:STANDARD
TZOFFSETFROM:+0200
TZOFFSETTO:+0100
TZNAME:CET
DTSTART:19701025T030000
RRULE:FREQ=YEARLY;INTERVAL=1;BYDAY=-1SU;BYMONTH=10
END:STANDARD
END:VTIMEZONE
BEGIN:VEVENT
UID:102ecc51a6d139c0d964f6e0910f771d@gruene-brandenburg.de
URL;VALUE=URI:https://gruene-brandenburg.de/termine/lag-kultur/
LOCATION:Online Zoom Raum A
SUMMARY:LAG Kultur
DESCRIPTION;ALTREP="data:text/html,%3Cp%3EBitte%20wendet%20euch%20f%C3%BC
 r%20die%20Zugangsdaten%20an%20das%20Sprecher%2Ainnen%20Team%20unter%20lag
 .kultur%40gruene-brandenburg.de%3Cbr%20%2F%3E%0A%3Cbr%20%2F%3E%0A%3C%2Fp%
 3E":Bitte wendet euch für die Zugangsdaten an das Sprecher*innen Team un
 ter lag.kultur@gruene-brandenburg.de
CLASS:PUBLIC
DTSTART;TZID=Europe/Berlin:20260508T180000
DTEND;TZID=Europe/Berlin:20260508T193000
DTSTAMP:20260422T000714
END:VEVENT
END:VCALENDAR