BEGIN:VCALENDAR
VERSION:2.0
PRODID:gruene-brandenburg.de
METHOD:PUBLISH
BEGIN:VTIMEZONE
TZID:Europe/Berlin
X-LIC-LOCATION:Europe/Berlin
BEGIN:DAYLIGHT
TZOFFSETFROM:+0100
TZOFFSETTO:+0200
TZNAME:CEST
DTSTART:19700329T020000
RRULE:FREQ=YEARLY;INTERVAL=1;BYDAY=-1SU;BYMONTH=3
END:DAYLIGHT
BEGIN:STANDARD
TZOFFSETFROM:+0200
TZOFFSETTO:+0100
TZNAME:CET
DTSTART:19701025T030000
RRULE:FREQ=YEARLY;INTERVAL=1;BYDAY=-1SU;BYMONTH=10
END:STANDARD
END:VTIMEZONE
BEGIN:VEVENT
UID:f1d1fe06444cdc0f9cc0fa87b9aab4c8@gruene-brandenburg.de
URL;VALUE=URI:https://gruene-brandenburg.de/termine/lag-religionen/
LOCATION:Zoom Raum A
SUMMARY:LAG Religionen
DESCRIPTION;ALTREP="data:text/html,%3Cp%3EInteressierte%20sind%20herzlich
 %20willkommen%21%20Nehmt%20gerne%20vorab%20Kontakt%20mit%20dem%20Sprecher
 %3Ainnenteam%2C%20Karin%20und%20Simon%2C%20auf%3A%20lag.religion%5Bat%5Dg
 ruene-brandenburg.de.%3Cbr%20%2F%3E%0A%3Cbr%20%2F%3E%0A%3Cbr%20%2F%3E%0A%
 3C%2Fp%3E":Interessierte sind herzlich willkommen! Nehmt gerne vorab Kont
 akt mit dem Sprecher:innenteam\, Karin und Simon\, auf: lag.religion[at]g
 ruene-brandenburg.de.
CLASS:PUBLIC
DTSTART;TZID=Europe/Berlin:20260505T190000
DTEND;TZID=Europe/Berlin:20260505T210000
DTSTAMP:20260422T013638
END:VEVENT
END:VCALENDAR