BEGIN:VCALENDAR
VERSION:2.0
PRODID:gruene-brandenburg.de
METHOD:PUBLISH
BEGIN:VTIMEZONE
TZID:Europe/Berlin
X-LIC-LOCATION:Europe/Berlin
BEGIN:DAYLIGHT
TZOFFSETFROM:+0100
TZOFFSETTO:+0200
TZNAME:CEST
DTSTART:19700329T020000
RRULE:FREQ=YEARLY;INTERVAL=1;BYDAY=-1SU;BYMONTH=3
END:DAYLIGHT
BEGIN:STANDARD
TZOFFSETFROM:+0200
TZOFFSETTO:+0100
TZNAME:CET
DTSTART:19701025T030000
RRULE:FREQ=YEARLY;INTERVAL=1;BYDAY=-1SU;BYMONTH=10
END:STANDARD
END:VTIMEZONE
BEGIN:VEVENT
UID:0f475a5a4b39a599387f5879aefe262b@gruene-brandenburg.de
URL;VALUE=URI:https://gruene-brandenburg.de/termine/lag-sprecherinnentref
 fen/
LOCATION:
SUMMARY:LAG Sprecher*innentreffen
DESCRIPTION;ALTREP="data:text/html,%3Cp%3EWir%20treffen%20uns%20Online%20
 via%20Zoom%20in%20RAUM%20A%3C%2Fp%3E":Wir treffen uns Online via Zoom in 
 RAUM A
CLASS:PUBLIC
DTSTART;TZID=Europe/Berlin:20260422T190000
DTEND;TZID=Europe/Berlin:20260422T203000
DTSTAMP:20260420T131851
END:VEVENT
END:VCALENDAR