BEGIN:VCALENDAR
VERSION:2.0
PRODID:gruene-brandenburg.de
METHOD:PUBLISH
BEGIN:VTIMEZONE
TZID:Europe/Berlin
X-LIC-LOCATION:Europe/Berlin
BEGIN:DAYLIGHT
TZOFFSETFROM:+0100
TZOFFSETTO:+0200
TZNAME:CEST
DTSTART:19700329T020000
RRULE:FREQ=YEARLY;INTERVAL=1;BYDAY=-1SU;BYMONTH=3
END:DAYLIGHT
BEGIN:STANDARD
TZOFFSETFROM:+0200
TZOFFSETTO:+0100
TZNAME:CET
DTSTART:19701025T030000
RRULE:FREQ=YEARLY;INTERVAL=1;BYDAY=-1SU;BYMONTH=10
END:STANDARD
END:VTIMEZONE
BEGIN:VEVENT
UID:2ad5dd0d3175236fcbbe62ca4b8c15ac@gruene-brandenburg.de
URL;VALUE=URI:https://gruene-brandenburg.de/termine/mitgliederbeauftragte
 -netzwerktreffen/
LOCATION:Online
SUMMARY:Mitgliederbeauftragte Netzwerktreffen
DESCRIPTION;ALTREP="data:text/html,%3Cp%3ETreffen%20der%20Mitgliederbeauf
 tragten%20aus%20Brandenburg%202026.%20Bei%20Fragen%20bitte%20an%3A%20carl
 otta.schaefer%40gruene-brandenburg.de%3Cbr%20%2F%3E%0A%3Cbr%20%2F%3E%0A%3
 C%2Fp%3E":Treffen der Mitgliederbeauftragten aus Brandenburg 2026. Bei Fr
 agen bitte an: carlotta.schaefer@gruene-brandenburg.de
CLASS:PUBLIC
DTSTART;TZID=Europe/Berlin:20260505T190000
DTEND;TZID=Europe/Berlin:20260505T200000
DTSTAMP:20260421T235215
END:VEVENT
END:VCALENDAR