BEGIN:VCALENDAR
VERSION:2.0
PRODID:gruene-brandenburg.de
METHOD:PUBLISH
BEGIN:VTIMEZONE
TZID:Europe/Berlin
X-LIC-LOCATION:Europe/Berlin
BEGIN:DAYLIGHT
TZOFFSETFROM:+0100
TZOFFSETTO:+0200
TZNAME:CEST
DTSTART:19700329T020000
RRULE:FREQ=YEARLY;INTERVAL=1;BYDAY=-1SU;BYMONTH=3
END:DAYLIGHT
BEGIN:STANDARD
TZOFFSETFROM:+0200
TZOFFSETTO:+0100
TZNAME:CET
DTSTART:19701025T030000
RRULE:FREQ=YEARLY;INTERVAL=1;BYDAY=-1SU;BYMONTH=10
END:STANDARD
END:VTIMEZONE
BEGIN:VEVENT
UID:8d7f1013e51b2a6811b9ee9d2bcefe38@gruene-brandenburg.de
URL;VALUE=URI:https://gruene-brandenburg.de/termine/sitzung-der-lag-wisse
 nschafts-hochschul-und-technologiepolitik/
LOCATION:Zoom Raum B
SUMMARY:Sitzung der LAG Wissenschafts-, Hochschul- und Technologiepolitik
DESCRIPTION;ALTREP="data:text/html,%3Cp%3EF%C3%BCr%20Zugangsdaten%20wende
 t%20euch%20bitte%20an%20das%20Sprecher%2Ainnen%20Team%20unter%20lag.wht%4
 0gruene-brandenburg.de%3C%2Fp%3E":Für Zugangsdaten wendet euch bitte an 
 das Sprecher*innen Team unter lag.wht@gruene-brandenburg.de
CLASS:PUBLIC
DTSTART;TZID=Europe/Berlin:20260504T190000
DTEND;TZID=Europe/Berlin:20260504T210000
DTSTAMP:20260422T001245
END:VEVENT
END:VCALENDAR