BEGIN:VCALENDAR
VERSION:2.0
PRODID:gruene-brandenburg.de
METHOD:PUBLISH
BEGIN:VTIMEZONE
TZID:Europe/Berlin
X-LIC-LOCATION:Europe/Berlin
BEGIN:DAYLIGHT
TZOFFSETFROM:+0100
TZOFFSETTO:+0200
TZNAME:CEST
DTSTART:19700329T020000
RRULE:FREQ=YEARLY;INTERVAL=1;BYDAY=-1SU;BYMONTH=3
END:DAYLIGHT
BEGIN:STANDARD
TZOFFSETFROM:+0200
TZOFFSETTO:+0100
TZNAME:CET
DTSTART:19701025T030000
RRULE:FREQ=YEARLY;INTERVAL=1;BYDAY=-1SU;BYMONTH=10
END:STANDARD
END:VTIMEZONE
BEGIN:VEVENT
UID:6baf8f1d422b298aaaf076957b6e2cca@gruene-brandenburg.de
URL;VALUE=URI:https://gruene-brandenburg.de/termine/vielfaltsschulung-fue
 r-kreisvorstaende-und-lag-sprecherinnen/
LOCATION:Online
SUMMARY:Vielfaltsschulung für Kreisvorstände und LAG-Sprecher*innen
DESCRIPTION;ALTREP="data:text/html,%3Cp%3EDiversity%20Grundlagen%20Traini
 ng%20%3Cbr%20%2F%3E%0ADieses%20Training%20richtet%20sich%20an%20alle%2C%2
 0die%3Cbr%20%2F%3E%0A%20%20%20%20%20%20%20%20sich%20f%C3%BCr%20mehr%3Cbr%
 20%2F%3E%0A%20%20%20%20%20%20%20%20Diversit%C3%A4t%20in%20unseren%20Struk
 turen%20und%20politischen%20Arbeit%3Cbr%20%2F%3E%0A%20%20%20%20%20%20%20%
 20einsetzen%20m%C3%B6chten.%3Cbr%20%2F%3E%0A%20%20%20%20%20%20%20%20Gerad
 e%20in%20der%20Parteiarbeit%20ist%20es%20entscheidend%2C%20unterschiedlic
 he%3Cbr%20%2F%3E%0A%20%20%20%20%20%20%20%20Lebensrealit%C3%A4ten%20mitzud
 enken%2C%20Zug%C3%A4nge%20zu%20%C3%B6ffnen%20und%20Barrieren%3Cbr%20%2F%3
 E%0A%20%20%20%20%20%20%20%20abzubauen.In%20dem%20dreist%C3%BCndigen%20Wor
 kshop%20habt%20ihr%20die%3Cbr%20%2F%3E%0A%20%20%20%20%20%20%20%20M%C3%B6g
 lichkeit%2C%20eure%3Cbr%20%2F%3E%0A%20%20%20%20%20%20%20%20eigenen%20Priv
 ilegien%20und%20Erfahrungen%20mit%20Diskriminierung%20zu%3Cbr%20%2F%3E%0A
 %20%20%20%20%20%20%20%20reflektieren.%20Zudem%20werden%3Cbr%20%2F%3E%0A%2
 0%20%20%20%20%20%20%20euch%20zentrale%20Grundlagen%20zu%20Diversit%C3%A4t
 %20vermittelt%20und%20gemeinsam%3Cbr%20%2F%3E%0A%20%20%20%20%20%20%20%20e
 rarbeitet%2C%20wie%3Cbr%20%2F%3E%0A%20%20%20%20%20%20%20%20verschiedene%2
 0Zugeh%C3%B6rigkeiten%20zusammenwirken%20und%20welche%20Chancen%3Cbr%20%2
 F%3E%0A%20%20%20%20%20%20%20%20darin%20liegen.%3Cbr%20%2F%3E%0A%20%20%20%
 20%20%20%20%20Gleichzeitig%20werfen%20wir%20einen%20Blick%20auf%20Herausf
 orderungen%2C%20die%3Cbr%20%2F%3E%0A%20%20%20%20%20%20%20%20daraus%20ents
 tehen%3Cbr%20%2F%3E%0A%20%20%20%20%20%20%20%20k%C3%B6nnen.Abschlie%C3%9Fe
 nd%20%C3%BCbertragen%20wir%20das%20Erlernte%3Cbr%20%2F%3E%0A%20%20%20%20%
 20%20%20%20gemeinsam%20auf%20eure%3Cbr%20%2F%3E%0A%20%20%20%20%20%20%20%2
 0parteipolitische%20Praxis%20%E2%80%93%20in%20euren%20LAGen%2C%20KVen%20u
 nd%20dar%C3%BCber%3Cbr%20%2F%3E%0A%20%20%20%20%20%20%20%20hinaus.%3Cbr%20
 %2F%3E%0A%3Cbr%20%2F%3E%0AF%C3%BCr%20wen%3A%20LAG-Sprecher%2Ainnen%20und%
 3Cbr%20%2F%3E%0A%20%20%20%20%20%20%20%20KV-Vorst%C3%A4nd%2Ainnen%20in%20B
 erlin%20und%20Brandenburg%3Cbr%20%2F%3E%0ATermin%3A%2023.06.2026%2C%2018%
 20bis%2021%20Uhr%3Cbr%20%2F%3E%0AReferent%3A%20Maziar%20Taymoorzadeh%2C%2
 0Bildungsreferent%20und%20Trainer%20f%C3%BCr%20Diversity%3Cbr%20%2F%3E%0A
 %20%20%20%20%20%20%20%20und%3Cbr%20%2F%3E%0A%20%20%20%20%20%20%20%20Antid
 iskriminierung%3Cbr%20%2F%3E%0AAnmeldung%3A%20per%20E-Mail%20an%20weiterb
 ildung%40gruene-brandenburg.de%3C%2Fp%3E":Diversity Grundlagen Training\n
 \nDieses Training richtet sich an alle\, die\n\n        sich für mehr\n\
 n        Diversität in unseren Strukturen und politischen Arbeit\n\n    
     einsetzen möchten.\n\n        Gerade in der Parteiarbeit ist es ents
 cheidend\, unterschiedliche\n\n        Lebensrealitäten mitzudenken\, Zu
 gänge zu öffnen und Barrieren\n\n        abzubauen.In dem dreistündige
 n Workshop habt ihr die\n\n        Möglichkeit\, eure\n\n        eigenen
  Privilegien und Erfahrungen mit Diskriminierung zu\n\n        reflektier
 en. Zudem werden\n\n        euch zentrale Grundlagen zu Diversität vermi
 ttelt und gemeinsam\n\n        erarbeitet\, wie\n\n        verschiedene Z
 ugehörigkeiten zusammenwirken und welche Chancen\n\n        darin liegen
 .\n\n        Gleichzeitig werfen wir einen Blick auf Herausforderungen\, 
 die\n\n        daraus entstehen\n\n        können.Abschließend übertra
 gen wir das Erlernte\n\n        gemeinsam auf eure\n\n        parteipolit
 ische Praxis – in euren LAGen\, KVen und darüber\n\n        hinaus.\n\
 nFür wen: LAG-Sprecher*innen und\n\n        KV-Vorständ*innen in Berlin
  und Brandenburg\n\nTermin: 23.06.2026\, 18 bis 21 Uhr\n\nReferent: Mazia
 r Taymoorzadeh\, Bildungsreferent und Trainer für Diversity\n\n        u
 nd\n\n        Antidiskriminierung\n\nAnmeldung: per E-Mail an weiterbildu
 ng@gruene-brandenburg.de
CLASS:PUBLIC
DTSTART;TZID=Europe/Berlin:20260623T180000
DTEND;TZID=Europe/Berlin:20260623T210000
DTSTAMP:20260422T013622
END:VEVENT
END:VCALENDAR